BEGIN:VCALENDAR
VERSION:2.0
PRODID:-//Geringswalder Funkclub e.V. - ECPv6.10.0//NONSGML v1.0//EN
CALSCALE:GREGORIAN
METHOD:PUBLISH
X-ORIGINAL-URL:https://geringswalder-funkclub.de
X-WR-CALDESC:Veranstaltungen für Geringswalder Funkclub e.V.
REFRESH-INTERVAL;VALUE=DURATION:PT1H
X-Robots-Tag:noindex
X-PUBLISHED-TTL:PT1H
BEGIN:VTIMEZONE
TZID:UTC
BEGIN:STANDARD
TZOFFSETFROM:+0000
TZOFFSETTO:+0000
TZNAME:UTC
DTSTART:20230101T000000
END:STANDARD
END:VTIMEZONE
BEGIN:VEVENT
DTSTART;TZID=UTC:20230408T140000
DTEND;TZID=UTC:20230408T180000
DTSTAMP:20260423T181721
CREATED:20230302T134230Z
LAST-MODIFIED:20230302T142337Z
UID:10-1680962400-1680976800@geringswalder-funkclub.de
SUMMARY:Feierliche Turmeröffnung 2023
DESCRIPTION:wir der Geringswalder Funkclub laden ein: \n  \nTurmerföffnung\nFreitgag den 08.04.2023\nvon 14:00 – 18:00 Uhr\nKleine Osternester im und um den Turm\, Kaffee\, Kuchen und Verpflegung \nBus für Rentner:\n14:30 Uhr ab Kirche\n14:35 Uhr ab betreuten Wohnen E. Zeigner Straße\n14:40 Uhr ab Wohnen im Alter\, Dresdner Straße 27\nincl. Rückfahrten \nab 14:40 live Musil von ox noctua \nEinführung in die Welt des Funkens durch den deutschen Meister DARC \n  \nkleiner Flohmarkt
URL:https://geringswalder-funkclub.de/event/turmeroeffnung-2023/
LOCATION:Sachsen
CATEGORIES:Events
END:VEVENT
END:VCALENDAR